BEGIN:VCALENDAR
VERSION:2.0
PRODID:-//AudioTheme 2.3.8
BEGIN:VEVENT
UID:urn:uuid:bc2812c1-330a-4307-babe-97cf4843bfc9
URL:https://mitchmcvicker.com/concerts/gig-1764/
DTSTART;VALUE=DATE:20111120
SUMMARY:East View Baptist Church
LOCATION:East View Baptist Church\, Belleville\, IL
END:VEVENT
END:VCALENDAR
