BEGIN:VCALENDAR
VERSION:2.0
PRODID:-//AudioTheme 2.3.8
BEGIN:VEVENT
UID:urn:uuid:8c7a7c2a-fc51-4dba-bda5-5ff364d8c291
URL:https://mitchmcvicker.com/concerts/gig-1762/
DTSTART;VALUE=DATE:20111120
SUMMARY:West Ridge Community Church
LOCATION:West Ridge Community Church\, Elgin\, IL
END:VEVENT
END:VCALENDAR
