BEGIN:VCALENDAR
VERSION:2.0
PRODID:-//AudioTheme 2.3.8
BEGIN:VEVENT
UID:urn:uuid:acd59ceb-fc60-4af0-ac66-fdaf388bdb9e
URL:https://mitchmcvicker.com/concerts/gig-1761/
DTSTART;VALUE=DATE:20111119
SUMMARY:Yola's Cafe
LOCATION:Yola's Cafe\, Madison\, WI
END:VEVENT
END:VCALENDAR
