BEGIN:VCALENDAR
VERSION:2.0
PRODID:-//AudioTheme 2.3.8
BEGIN:VEVENT
UID:urn:uuid:ecb3376b-0463-48be-9c11-b62aa0dd9ccf
URL:https://mitchmcvicker.com/concerts/gig-1759/
DTSTART;VALUE=DATE:20111118
SUMMARY:Community Church
LOCATION:Community Church\, Oshkosh\, WI
END:VEVENT
END:VCALENDAR
