BEGIN:VCALENDAR
VERSION:2.0
PRODID:-//AudioTheme 2.3.8
BEGIN:VEVENT
UID:urn:uuid:ae7f347f-4c23-4a35-9c68-bac6de47575c
URL:https://mitchmcvicker.com/concerts/gig-1758/
DTSTART;VALUE=DATE:20111117
SUMMARY:Trinity Lutheran Church
LOCATION:Trinity Lutheran Church\, 1410 Rogers St\, Stevens Point\, WI\, USA\, 54481
END:VEVENT
END:VCALENDAR
