BEGIN:VCALENDAR
VERSION:2.0
PRODID:-//AudioTheme 2.3.8
BEGIN:VEVENT
UID:urn:uuid:89bfc08d-a80f-418b-89a8-30940d15f79f
URL:https://mitchmcvicker.com/concerts/gig-1755/
DTSTART;VALUE=DATE:20111106
SUMMARY:Cardinal Heights Upper Middle School Auditorium
LOCATION:Cardinal Heights Upper Middle School Auditorium\, Sun Prairie\, WI
END:VEVENT
END:VCALENDAR
