BEGIN:VCALENDAR
VERSION:2.0
PRODID:-//AudioTheme 2.3.8
BEGIN:VEVENT
UID:urn:uuid:824c397b-71ff-44f1-8076-00c9e4d45c91
URL:https://mitchmcvicker.com/concerts/gig-1754/
DTSTART;VALUE=DATE:20111105
SUMMARY:Grace Reformed Church
LOCATION:Grace Reformed Church\, 520 Maxwell St\, Waterloo\, IA\, USA
END:VEVENT
END:VCALENDAR
