BEGIN:VCALENDAR
VERSION:2.0
PRODID:-//AudioTheme 2.3.8
BEGIN:VEVENT
UID:urn:uuid:9e4d493c-26f8-46a7-baf9-c55f2f1cd7d2
URL:https://mitchmcvicker.com/concerts/gig-1753/
DTSTART;VALUE=DATE:20111104
SUMMARY:Cup O'Joy Coffeehouse
LOCATION:Cup O'Joy Coffeehouse\, Green Bay\, WI
END:VEVENT
END:VCALENDAR
