BEGIN:VCALENDAR
VERSION:2.0
PRODID:-//AudioTheme 2.3.8
BEGIN:VEVENT
UID:urn:uuid:c3d36f1a-ec5f-423e-8cd3-3fe71c903741
URL:https://mitchmcvicker.com/concerts/gig-1751/
DTSTART;VALUE=DATE:20111103
SUMMARY:Bethany Lutheran Church
LOCATION:Bethany Lutheran Church\, Star Prairie\, WI
END:VEVENT
END:VCALENDAR
