BEGIN:VCALENDAR
VERSION:2.0
PRODID:-//AudioTheme 2.3.8
BEGIN:VEVENT
UID:urn:uuid:6cc85108-00f0-4019-a9d9-6aa0cf2f7717
URL:https://mitchmcvicker.com/concerts/gig-1750/
DTSTART;VALUE=DATE:20111102
SUMMARY:New Covenant Bible Church
LOCATION:New Covenant Bible Church\, Cedar Rapids\, IA
END:VEVENT
END:VCALENDAR
