BEGIN:VCALENDAR
VERSION:2.0
PRODID:-//AudioTheme 2.3.8
BEGIN:VEVENT
UID:urn:uuid:4452bc4a-40fb-4efe-baee-77390fcd1af0
URL:https://mitchmcvicker.com/concerts/gig-1746/
DTSTART;VALUE=DATE:20111101
SUMMARY:Christ Lutheran Church
LOCATION:Christ Lutheran Church\, Lincoln\, NE
END:VEVENT
END:VCALENDAR
