BEGIN:VCALENDAR
VERSION:2.0
PRODID:-//AudioTheme 2.3.8
BEGIN:VEVENT
UID:urn:uuid:f8a8b3ce-afcb-4010-9b90-2643d02423d0
URL:https://mitchmcvicker.com/concerts/gig-1744/
DTSTART;VALUE=DATE:20111023
SUMMARY:Lebo United Methodist Church
LOCATION:Lebo United Methodist Church\, Lebo\, KS
END:VEVENT
END:VCALENDAR
