BEGIN:VCALENDAR
VERSION:2.0
PRODID:-//AudioTheme 2.3.8
BEGIN:VEVENT
UID:urn:uuid:06f43456-3ab5-430b-b080-1e768ea61067
URL:https://mitchmcvicker.com/concerts/gig-1742/
DTSTART;VALUE=DATE:20111022
SUMMARY:Shawnee Heights United Methodist Church
LOCATION:Shawnee Heights United Methodist Church\, Tecumseh(Topeka)\, KS
END:VEVENT
END:VCALENDAR
