BEGIN:VCALENDAR
VERSION:2.0
PRODID:-//AudioTheme 2.3.8
BEGIN:VEVENT
UID:urn:uuid:872c7efd-7221-4d35-b125-26f6a097a81e
URL:https://mitchmcvicker.com/concerts/gig-1741/
DTSTART;VALUE=DATE:20111021
SUMMARY:Faith and Learning Alumni Auditorium/Friends University
LOCATION:Faith and Learning Alumni Auditorium/Friends University\, Wichita\, KS
END:VEVENT
END:VCALENDAR
