BEGIN:VCALENDAR
VERSION:2.0
PRODID:-//AudioTheme 2.3.8
BEGIN:VEVENT
UID:urn:uuid:f5dd919a-a15f-4fa3-b666-c7963f51d9a0
URL:https://mitchmcvicker.com/concerts/gig-1740/
DTSTART;VALUE=DATE:20111020
SUMMARY:Lighthouse Bible Church
LOCATION:Lighthouse Bible Church\, Topeka\, KS
END:VEVENT
END:VCALENDAR
