BEGIN:VCALENDAR
VERSION:2.0
PRODID:-//AudioTheme 2.3.8
BEGIN:VEVENT
UID:urn:uuid:c1902c07-727c-4ff0-bc3f-471031383a8b
URL:https://mitchmcvicker.com/concerts/gig-1738/
DTSTART;VALUE=DATE:20111019
SUMMARY:Grace Community Church
LOCATION:Grace Community Church\, Mt. Vernon\, MO
END:VEVENT
END:VCALENDAR
