BEGIN:VCALENDAR
VERSION:2.0
PRODID:-//AudioTheme 2.3.8
BEGIN:VEVENT
UID:urn:uuid:0012b4e9-cbcc-493e-82ce-687a17fdfcf3
URL:https://mitchmcvicker.com/concerts/gig-1737/
DTSTART;VALUE=DATE:20111016
SUMMARY:Oak Grove Bible Church
LOCATION:Oak Grove Bible Church\, East Peoria\, IL
END:VEVENT
END:VCALENDAR
