BEGIN:VCALENDAR
VERSION:2.0
PRODID:-//AudioTheme 2.3.8
BEGIN:VEVENT
UID:urn:uuid:62d0644b-f42a-4e3b-a55d-b57e86a485a8
URL:https://mitchmcvicker.com/concerts/gig-1734/
DTSTART;VALUE=DATE:20111014
SUMMARY:Lucas Grove Baptist Church
LOCATION:Lucas Grove Baptist Church\, Upton\, KY
END:VEVENT
END:VCALENDAR
