BEGIN:VCALENDAR
VERSION:2.0
PRODID:-//AudioTheme 2.3.8
BEGIN:VEVENT
UID:urn:uuid:8367206c-9c35-4ee5-8291-7ffdb04a1e4f
URL:https://mitchmcvicker.com/concerts/gig-1732/
DTSTART;VALUE=DATE:20111013
SUMMARY:Shiloh Ministries
LOCATION:Shiloh Ministries\, Maryville\, TN
END:VEVENT
END:VCALENDAR
