BEGIN:VCALENDAR
VERSION:2.0
PRODID:-//AudioTheme 2.3.8
BEGIN:VEVENT
UID:urn:uuid:9c9394a5-aa1a-4a18-8791-698e99644557
URL:https://mitchmcvicker.com/concerts/gig-1730/
DTSTART;VALUE=DATE:20110925
SUMMARY:Ebenezer United Methodist Church
LOCATION:Ebenezer United Methodist Church\, Fallston\, MD
END:VEVENT
END:VCALENDAR
