BEGIN:VCALENDAR
VERSION:2.0
PRODID:-//AudioTheme 2.3.8
BEGIN:VEVENT
UID:urn:uuid:50cc7b77-afd5-4be9-95f4-7b1e3ae18d7c
URL:https://mitchmcvicker.com/concerts/gig-1729/
DTSTART;VALUE=DATE:20110923
SUMMARY:Trinity United Methodist Church
LOCATION:Trinity United Methodist Church\, Newburgh\, New York
END:VEVENT
END:VCALENDAR
