BEGIN:VCALENDAR
VERSION:2.0
PRODID:-//AudioTheme 2.3.8
BEGIN:VEVENT
UID:urn:uuid:72472063-def9-4713-8c98-dcac3bc05439
URL:https://mitchmcvicker.com/concerts/gig-1727/
DTSTART;VALUE=DATE:20110922
SUMMARY:Jacob's Well Fellowship
LOCATION:Jacob's Well Fellowship\, Cambridge\, NY
END:VEVENT
END:VCALENDAR
