BEGIN:VCALENDAR
VERSION:2.0
PRODID:-//AudioTheme 2.3.8
BEGIN:VEVENT
UID:urn:uuid:98a466ff-3ab4-4694-87e2-3c0de9401b64
URL:https://mitchmcvicker.com/concerts/gig-1724/
DTSTART;VALUE=DATE:20110917
SUMMARY:Riverside Christian Church "Walk for Water"
LOCATION:Riverside Christian Church "Walk for Water"\, Antwerp\, OH
END:VEVENT
END:VCALENDAR
