BEGIN:VCALENDAR
VERSION:2.0
PRODID:-//AudioTheme 2.3.8
BEGIN:VEVENT
UID:urn:uuid:2d0c7fd0-98cb-43fc-9a54-5ffff5538795
URL:https://mitchmcvicker.com/concerts/gig-1723/
DTSTART;VALUE=DATE:20110916
SUMMARY:Blessed Sacrament Church
LOCATION:Blessed Sacrament Church\, 263 Claremont Ave\, Tonawanda\, NY
END:VEVENT
END:VCALENDAR
