BEGIN:VCALENDAR
VERSION:2.0
PRODID:-//AudioTheme 2.3.8
BEGIN:VEVENT
UID:urn:uuid:572d82b9-a05a-4cb8-bedc-c0605f1f559c
URL:https://mitchmcvicker.com/concerts/gig-1721/
DTSTART;VALUE=DATE:20110915
SUMMARY:Living Faith Bible Church
LOCATION:Living Faith Bible Church\, Sauquoit\, NY
END:VEVENT
END:VCALENDAR
