BEGIN:VCALENDAR
VERSION:2.0
PRODID:-//AudioTheme 2.3.8
BEGIN:VEVENT
UID:urn:uuid:c34c1db6-431b-4d9d-a644-0558dc3fd184
URL:https://mitchmcvicker.com/concerts/gig-1720/
DTSTART;VALUE=DATE:20110911
SUMMARY:POSTPONED
LOCATION:POSTPONED\, POSTPONED Woonsocket\, RI
END:VEVENT
END:VCALENDAR
