BEGIN:VCALENDAR
VERSION:2.0
PRODID:-//AudioTheme 2.3.8
BEGIN:VEVENT
UID:urn:uuid:79d1e07b-1970-43d8-bc43-2ee7a98e418a
URL:https://mitchmcvicker.com/concerts/gig-1715/
DTSTART;VALUE=DATE:20110909
SUMMARY:Samantha's Lil Bit of Heaven
LOCATION:Samantha's Lil Bit of Heaven\, 287 Larkfield Rd\, East Northport\, NY\, 11731
END:VEVENT
END:VCALENDAR
