BEGIN:VCALENDAR
VERSION:2.0
PRODID:-//AudioTheme 2.3.8
BEGIN:VEVENT
UID:urn:uuid:9fc7b4b8-f73a-419e-8526-ddff23ca2c00
URL:https://mitchmcvicker.com/concerts/gig-1713/
DTSTART;VALUE=DATE:20110907
SUMMARY:Masonboro Baptist
LOCATION:Masonboro Baptist\, Wilmington\, NC
END:VEVENT
END:VCALENDAR
