BEGIN:VCALENDAR
VERSION:2.0
PRODID:-//AudioTheme 2.3.8
BEGIN:VEVENT
UID:urn:uuid:ce7b897a-1751-4ee3-bcfb-1659f490da77
URL:https://mitchmcvicker.com/concerts/gig-1712/
DTSTART;VALUE=DATE:20110821
SUMMARY:Solid Rock Bible Fellowship
LOCATION:Solid Rock Bible Fellowship\, Napoleon\, IN
END:VEVENT
END:VCALENDAR
