BEGIN:VCALENDAR
VERSION:2.0
PRODID:-//AudioTheme 2.3.8
BEGIN:VEVENT
UID:urn:uuid:ec3e52ae-1b23-4d80-a584-18b41feaad4d
URL:https://mitchmcvicker.com/concerts/gig-1710/
DTSTART;VALUE=DATE:20110820
SUMMARY:Saturday Night Revolution at Grace Fellowship
LOCATION:Saturday Night Revolution at Grace Fellowship\, Peebles\, OH
END:VEVENT
END:VCALENDAR
