BEGIN:VCALENDAR
VERSION:2.0
PRODID:-//AudioTheme 2.3.8
BEGIN:VEVENT
UID:urn:uuid:0182c419-cc14-436a-a573-4041c58c03a3
URL:https://mitchmcvicker.com/concerts/gig-1709/
DTSTART;VALUE=DATE:20110819
SUMMARY:Covenant Christian Church
LOCATION:Covenant Christian Church\, Crawfordsville\, IN
END:VEVENT
END:VCALENDAR
