BEGIN:VCALENDAR
VERSION:2.0
PRODID:-//AudioTheme 2.3.8
BEGIN:VEVENT
UID:urn:uuid:fff6e91c-6dcb-4aa8-86fe-7f7b3d1aa463
URL:https://mitchmcvicker.com/concerts/gig-1707/
DTSTART;VALUE=DATE:20110725
SUMMARY:Rotary Youth Camp at Centenary Camp
LOCATION:Rotary Youth Camp at Centenary Camp\, Quincey\, FL
END:VEVENT
END:VCALENDAR
