BEGIN:VCALENDAR
VERSION:2.0
PRODID:-//AudioTheme 2.3.8
BEGIN:VEVENT
UID:urn:uuid:a6fe5671-e9c7-45f6-91c2-66370e70d616
URL:https://mitchmcvicker.com/concerts/gig-1705/
DTSTART;VALUE=DATE:20110724
SUMMARY:Trinity Fellowship
LOCATION:Trinity Fellowship\, Friendswood\, TX
END:VEVENT
END:VCALENDAR
