BEGIN:VCALENDAR
VERSION:2.0
PRODID:-//AudioTheme 2.3.8
BEGIN:VEVENT
UID:urn:uuid:8ae3416b-68a7-4882-a94c-a63fdaa3dde2
URL:https://mitchmcvicker.com/concerts/gig-1703/
DTSTART;VALUE=DATE:20110723
SUMMARY:Oak Hills Church: North Central Campus
LOCATION:Oak Hills Church: North Central Campus\, San Antonio\, TX
END:VEVENT
END:VCALENDAR
