BEGIN:VCALENDAR
VERSION:2.0
PRODID:-//AudioTheme 2.3.8
BEGIN:VEVENT
UID:urn:uuid:403c44eb-fee0-4039-9807-1ef8898aa359
URL:https://mitchmcvicker.com/concerts/gig-1702/
DTSTART;VALUE=DATE:20110722
SUMMARY:Renegade Church
LOCATION:Renegade Church\, Victoria\, TX
END:VEVENT
END:VCALENDAR
