BEGIN:VCALENDAR
VERSION:2.0
PRODID:-//AudioTheme 2.3.8
BEGIN:VEVENT
UID:urn:uuid:5ee46786-568b-40ea-a24b-c59651136a22
URL:https://mitchmcvicker.com/concerts/gig-1700/
DTSTART;VALUE=DATE:20110721
SUMMARY:Next Step Ministries Hurricane Relief Camp
LOCATION:Next Step Ministries Hurricane Relief Camp\, Kiln (Hancock County)\, MS
END:VEVENT
END:VCALENDAR
