BEGIN:VCALENDAR
VERSION:2.0
PRODID:-//AudioTheme 2.3.8
BEGIN:VEVENT
UID:urn:uuid:5b052bab-c600-4e53-a37e-2b39bfc9eff8
URL:https://mitchmcvicker.com/concerts/gig-1698/
DTSTART;VALUE=DATE:20110718
SUMMARY:Next Step Ministries (All Saints Aids Camp)
LOCATION:Next Step Ministries (All Saints Aids Camp)\, Nassau\, Bahamas
END:VEVENT
END:VCALENDAR
