BEGIN:VCALENDAR
VERSION:2.0
PRODID:-//AudioTheme 2.3.8
BEGIN:VEVENT
UID:urn:uuid:780b2f18-e7a5-4e87-aa5a-84f6a491e571
URL:https://mitchmcvicker.com/concerts/gig-1696/
DTSTART;VALUE=DATE:20110715
SUMMARY:Next Step Ministries Inner City Serve Camp
LOCATION:Next Step Ministries Inner City Serve Camp\, Milwaukee\, WI
END:VEVENT
END:VCALENDAR
