BEGIN:VCALENDAR
VERSION:2.0
PRODID:-//AudioTheme 2.3.8
BEGIN:VEVENT
UID:urn:uuid:62cf52a2-2e88-4ec3-9075-9bb60978a344
URL:https://mitchmcvicker.com/concerts/gig-1690/
DTSTART;VALUE=DATE:20110626
SUMMARY:Kentwood Christian Church
LOCATION:Kentwood Christian Church\, Grand Rapids (Kentwood)\, MI
END:VEVENT
END:VCALENDAR
