BEGIN:VCALENDAR
VERSION:2.0
PRODID:-//AudioTheme 2.3.8
BEGIN:VEVENT
UID:urn:uuid:66f33754-2b64-4da3-8060-a06956c8184e
URL:https://mitchmcvicker.com/concerts/gig-1688/
DTSTART;VALUE=DATE:20110624
SUMMARY:Mountain of Praise Music Festival/Mount Morris Camp and Conference Center
LOCATION:Mountain of Praise Music Festival/Mount Morris Camp and Conference Center\, Wautoma\, WI
END:VEVENT
END:VCALENDAR
