BEGIN:VCALENDAR
VERSION:2.0
PRODID:-//AudioTheme 2.3.8
BEGIN:VEVENT
UID:urn:uuid:41f70fd7-bf82-4ad9-8253-ae04a771c504
URL:https://mitchmcvicker.com/concerts/gig-1686/
DTSTART;VALUE=DATE:20110620
SUMMARY:Camp Focus/Mississippi Church of God
LOCATION:Camp Focus/Mississippi Church of God\, Brandon\, MS
END:VEVENT
END:VCALENDAR
