BEGIN:VCALENDAR
VERSION:2.0
PRODID:-//AudioTheme 2.3.8
BEGIN:VEVENT
UID:urn:uuid:f65b3bdf-eaa4-468f-899f-2d364acacaf9
URL:https://mitchmcvicker.com/concerts/gig-1684/
DTSTART;VALUE=DATE:20110616
SUMMARY:Next Step Ministries/Navajo Nation Action Plan Camp
LOCATION:Next Step Ministries/Navajo Nation Action Plan Camp\, Crownpoint\, NM
END:VEVENT
END:VCALENDAR
