BEGIN:VCALENDAR
VERSION:2.0
PRODID:-//AudioTheme 2.3.8
BEGIN:VEVENT
UID:urn:uuid:5e77ab5b-181c-4c1a-b2a0-367bf5c5d8ec
URL:https://mitchmcvicker.com/concerts/gig-1682/
DTSTART;VALUE=DATE:20110614
SUMMARY:Calvary Baptist Church
LOCATION:Calvary Baptist Church\, Raton\, NM
END:VEVENT
END:VCALENDAR
