BEGIN:VCALENDAR
VERSION:2.0
PRODID:-//AudioTheme 2.3.8
BEGIN:VEVENT
UID:urn:uuid:5ccbaa0c-6104-46b5-a3c7-76d652db5847
URL:https://mitchmcvicker.com/concerts/gig-1678/
DTSTART;VALUE=DATE:20110611
SUMMARY:Living Word
LOCATION:Living Word\, Las Cruces\, NM
END:VEVENT
END:VCALENDAR
