BEGIN:VCALENDAR
VERSION:2.0
PRODID:-//AudioTheme 2.3.8
BEGIN:VEVENT
UID:urn:uuid:7425a43b-e292-47ff-9b3c-269542ecba01
URL:https://mitchmcvicker.com/concerts/gig-1676/
DTSTART;VALUE=DATE:20110610
SUMMARY:Church Triumphant
LOCATION:Church Triumphant\, Las Cruces\, NM
END:VEVENT
END:VCALENDAR
