BEGIN:VCALENDAR
VERSION:2.0
PRODID:-//AudioTheme 2.3.8
BEGIN:VEVENT
UID:urn:uuid:b448b293-ff60-4a3b-8a4c-ac2d24357ca9
URL:https://mitchmcvicker.com/concerts/gig-1674/
DTSTART;VALUE=DATE:20110529
SUMMARY:Oxford Advent Christian Church
LOCATION:Oxford Advent Christian Church\, Oxford\, ME
END:VEVENT
END:VCALENDAR
