BEGIN:VCALENDAR
VERSION:2.0
PRODID:-//AudioTheme 2.3.8
BEGIN:VEVENT
UID:urn:uuid:2c70b3b2-e7cf-472c-b3c3-e46dcc63c001
URL:https://mitchmcvicker.com/concerts/gig-1672/
DTSTART;VALUE=DATE:20110528
SUMMARY:Fayette Baptist Church
LOCATION:Fayette Baptist Church\, Fayette\, ME
END:VEVENT
END:VCALENDAR
