BEGIN:VCALENDAR
VERSION:2.0
PRODID:-//AudioTheme 2.3.8
BEGIN:VEVENT
UID:urn:uuid:1929587d-ffa5-46a9-8ecf-08874807ccc4
URL:https://mitchmcvicker.com/concerts/gig-1670/
DTSTART;VALUE=DATE:20110527
SUMMARY:Bridgton Alliance Church
LOCATION:Bridgton Alliance Church\, Bridgton\, ME
END:VEVENT
END:VCALENDAR
