BEGIN:VCALENDAR
VERSION:2.0
PRODID:-//AudioTheme 2.3.8
BEGIN:VEVENT
UID:urn:uuid:157f8c42-2744-4ef0-8e4f-a59933992a27
URL:https://mitchmcvicker.com/concerts/gig-1668/
DTSTART;VALUE=DATE:20110526
SUMMARY:Souderton Mennonite Church
LOCATION:Souderton Mennonite Church\, Souderton\, PA
END:VEVENT
END:VCALENDAR
