BEGIN:VCALENDAR
VERSION:2.0
PRODID:-//AudioTheme 2.3.8
BEGIN:VEVENT
UID:urn:uuid:6d2428e3-26d2-4df7-93c0-0a6dd6a1715e
URL:https://mitchmcvicker.com/concerts/gig-1666/
DTSTART;VALUE=DATE:20110501
SUMMARY:New Life Wesleyan Church
LOCATION:New Life Wesleyan Church\, Gillette\, WY
END:VEVENT
END:VCALENDAR
